BEGIN:VCALENDAR
VERSION:2.0
PRODID:-//203.29.124.155//NONSGML kigkonsult.se iCalcreator 2.24.2//
CALSCALE:GREGORIAN
METHOD:PUBLISH
X-FROM-URL:https://cmpavic.asn.au
X-WR-TIMEZONE:Australia/Melbourne
BEGIN:VTIMEZONE
TZID:Australia/Melbourne
X-LIC-LOCATION:Australia/Melbourne
BEGIN:STANDARD
DTSTART:20190407T030000
TZOFFSETFROM:+1100
TZOFFSETTO:+1000
RDATE:20200405T030000
TZNAME:AEST
END:STANDARD
BEGIN:DAYLIGHT
DTSTART:20181007T020000
TZOFFSETFROM:+1000
TZOFFSETTO:+1100
RDATE:20191006T020000
TZNAME:AEDT
END:DAYLIGHT
END:VTIMEZONE
BEGIN:VEVENT
UID:ai1ec-679@cmpavic.asn.au
DTSTAMP:20190226T143548Z
CATEGORIES:
CONTACT:CMPA\; 03 5781 0655\; enquiries@cmpavic.asn.au
DESCRIPTION:Fire Response and Readiness Management Plan & Pest\, Weed and A
 nimal Management Plan Workshops\n \nThe CMPA is holding these workshops to
  develop a Template / Guideline on Fire Response and Readiness & Pest Weed
  and Animal Management Plans. This will enable you to gain an understandin
 g of how to manage fire and pest weeds and animals on and surrounding your
  site\, ensuring you are compliant with legislation.\nThe one-day workshop
  is an interactive process which encourages the active involvement of the 
 participants rather than a lecture session.\nTickets: https://cmpavic.asn.
 au/online-store/event-tickets/#!%2F%3Fdispatch%3Dcategories.view%26categor
 y_id%3D5a.
DTSTART;TZID=Australia/Melbourne:20190222T083000
DTEND;TZID=Australia/Melbourne:20190222T163000
GEO:-36.357982;+146.319451
LOCATION:Wangaratta Gateway @ 29-37 Ryley St\, Wangaratta VIC 3677\, Austra
 lia
SEQUENCE:0
SUMMARY:Fire Response and Readiness Management Plan & Pest\, Weed and Anima
 l Management Plan Workshops Management Workshop
URL:https://cmpavic.asn.au/event/cmpa-fire-workshop/
X-COST-TYPE:external
X-ALT-DESC;FMTTYPE=text/html:<!DOCTYPE HTML PUBLIC '-//W3C//DTD HTML 3.2//E
 N'>\\n<HTML>\\n<HEAD>\\n<TITLE></TITLE>\\n</HEAD>\\n<BODY><h1><b>Fire Resp
 onse and Readiness Management Plan & </b><b>Pest\, Weed and Animal Managem
 ent Plan Workshops</b></h1>\n<p><b> </b></p>\n<p>The CMPA is holding these
  workshops to develop a Template / Guideline on Fire Response and Readines
 s & Pest Weed and Animal Management Plans. This will enable you to gain an
  understanding of how to manage fire and pest weeds and animals on and sur
 rounding your site\, ensuring you are compliant with legislation.</p>\n<p>
 The one-day workshop is an interactive process which encourages the active
  involvement of the participants rather than a lecture session.</p>\n<div 
 class='addtoany_share_save_container addtoany_content addtoany_content_bot
 tom'><div class='a2a_kit a2a_kit_size_16 addtoany_list' data-a2a-url='http
 s://cmpavic.asn.au/' data-a2a-title='Home'><a class='a2a_button_facebook' 
 href='https://www.addtoany.com/add_to/facebook?linkurl=https%3A%2F%2Fcmpav
 ic.asn.au%2F&linkname=Home' title='Facebook' rel='nofollow noopener' targe
 t='_blank'></a><a class='a2a_button_twitter' href='https://www.addtoany.co
 m/add_to/twitter?linkurl=https%3A%2F%2Fcmpavic.asn.au%2F&linkname=Home' ti
 tle='Twitter' rel='nofollow noopener' target='_blank'></a><a class='a2a_bu
 tton_google_plus' href='https://www.addtoany.com/add_to/google_plus?linkur
 l=https%3A%2F%2Fcmpavic.asn.au%2F&linkname=Home' title='Google+' rel='nofo
 llow noopener' target='_blank'></a><a class='a2a_button_linkedin' href='ht
 tps://www.addtoany.com/add_to/linkedin?linkurl=https%3A%2F%2Fcmpavic.asn.a
 u%2F&linkname=Home' title='LinkedIn' rel='nofollow noopener' target='_blan
 k'></a></div></div><p>Tickets: <a class='ai1ec-ticket-url-exported' href='
 https://cmpavic.asn.au/online-store/event-tickets/#!%2F%3Fdispatch%3Dcateg
 ories.view%26category_id%3D5a'>https://cmpavic.asn.au/online-store/event-t
 ickets/#!%2F%3Fdispatch%3Dcategories.view%26category_id%3D5a</a>.</p></BOD
 Y></HTML>
X-COST:$125 per person member or $150 other
X-TICKETS-URL:https://cmpavic.asn.au/online-store/event-tickets/#!%2F%3Fdis
 patch%3Dcategories.view%26category_id%3D5a
END:VEVENT
BEGIN:VEVENT
UID:ai1ec-1861@cmpavic.asn.au
DTSTAMP:20190226T143548Z
CATEGORIES:
CONTACT:CMPA\; 03 5781 0655\; enquiries@cmpavic.asn.au
DESCRIPTION:Accommodation at The Vibe can be booked using the attached form
 \n \n \nTickets: https://cmpavic.asn.au/online-store/annual-dinner-tickets
 /#!%2F%3Fdispatch%3Dcategories.view%26category_id%3D8a.
DTSTART;TZID=Australia/Melbourne:20190914T170000
DTEND;TZID=Australia/Melbourne:20190914T230000
GEO:-37.510256;+145.746425
LOCATION:The VIBE Hotel @ 32 Murchison St\, Marysville VIC 3779\, Australia
SEQUENCE:0
SUMMARY:CMPA AGM & Annual Dinner 2019
URL:https://cmpavic.asn.au/event/cmpa-agm-annual-dinner-2-2/
X-COST-TYPE:external
X-ALT-DESC;FMTTYPE=text/html:<!DOCTYPE HTML PUBLIC '-//W3C//DTD HTML 3.2//E
 N'>\\n<HTML>\\n<HEAD>\\n<TITLE></TITLE>\\n</HEAD>\\n<BODY><p>Accommodation
  at The Vibe can be booked using the attached <a href='https://cmpavic.asn
 .au/wp-content/uploads/2015/12/CMPA-AGM-Dinner.pdf'>form</a></p>\n<p> </p>
 \n<p> </p>\n<div class='addtoany_share_save_container addtoany_content add
 toany_content_bottom'><div class='a2a_kit a2a_kit_size_16 addtoany_list' d
 ata-a2a-url='https://cmpavic.asn.au/' data-a2a-title='Home'><a class='a2a_
 button_facebook' href='https://www.addtoany.com/add_to/facebook?linkurl=ht
 tps%3A%2F%2Fcmpavic.asn.au%2F&linkname=Home' title='Facebook' rel='nofollo
 w noopener' target='_blank'></a><a class='a2a_button_twitter' href='https:
 //www.addtoany.com/add_to/twitter?linkurl=https%3A%2F%2Fcmpavic.asn.au%2F&
 linkname=Home' title='Twitter' rel='nofollow noopener' target='_blank'></a
 ><a class='a2a_button_google_plus' href='https://www.addtoany.com/add_to/g
 oogle_plus?linkurl=https%3A%2F%2Fcmpavic.asn.au%2F&linkname=Home' title='G
 oogle+' rel='nofollow noopener' target='_blank'></a><a class='a2a_button_l
 inkedin' href='https://www.addtoany.com/add_to/linkedin?linkurl=https%3A%2
 F%2Fcmpavic.asn.au%2F&linkname=Home' title='LinkedIn' rel='nofollow noopen
 er' target='_blank'></a></div></div><p>Tickets: <a class='ai1ec-ticket-url
 -exported' href='https://cmpavic.asn.au/online-store/annual-dinner-tickets
 /#!%2F%3Fdispatch%3Dcategories.view%26category_id%3D8a'>https://cmpavic.as
 n.au/online-store/annual-dinner-tickets/#!%2F%3Fdispatch%3Dcategories.view
 %26category_id%3D8a</a>.</p></BODY></HTML>
X-COST:$160 per person
X-TICKETS-URL:https://cmpavic.asn.au/online-store/annual-dinner-tickets/#!%
 2F%3Fdispatch%3Dcategories.view%26category_id%3D8a
END:VEVENT
END:VCALENDAR
